BEGIN:VCALENDAR
VERSION:2.0
PRODID:-// - ECPv6.15.20//NONSGML v1.0//EN
CALSCALE:GREGORIAN
METHOD:PUBLISH
X-ORIGINAL-URL:https://calusacruiseclub.com
X-WR-CALDESC:Events for 
REFRESH-INTERVAL;VALUE=DURATION:PT1H
X-Robots-Tag:noindex
X-PUBLISHED-TTL:PT1H
BEGIN:VTIMEZONE
TZID:America/New_York
BEGIN:DAYLIGHT
TZOFFSETFROM:-0500
TZOFFSETTO:-0400
TZNAME:EDT
DTSTART:20250309T070000
END:DAYLIGHT
BEGIN:STANDARD
TZOFFSETFROM:-0400
TZOFFSETTO:-0500
TZNAME:EST
DTSTART:20251102T060000
END:STANDARD
BEGIN:DAYLIGHT
TZOFFSETFROM:-0500
TZOFFSETTO:-0400
TZNAME:EDT
DTSTART:20260308T070000
END:DAYLIGHT
BEGIN:STANDARD
TZOFFSETFROM:-0400
TZOFFSETTO:-0500
TZNAME:EST
DTSTART:20261101T060000
END:STANDARD
BEGIN:DAYLIGHT
TZOFFSETFROM:-0500
TZOFFSETTO:-0400
TZNAME:EDT
DTSTART:20270314T070000
END:DAYLIGHT
BEGIN:STANDARD
TZOFFSETFROM:-0400
TZOFFSETTO:-0500
TZNAME:EST
DTSTART:20271107T060000
END:STANDARD
END:VTIMEZONE
BEGIN:VEVENT
DTSTART;TZID=America/New_York:20260421T140000
DTEND;TZID=America/New_York:20260423T120000
DTSTAMP:20260421T131342
CREATED:20260408T152557Z
LAST-MODIFIED:20260417T150520Z
UID:470-1776780000-1776945600@calusacruiseclub.com
SUMMARY:Nature's Resort Campground
DESCRIPTION:You must be logged in to add RSVP or to view attendees. \nDon’t forget to register early and tell them you are with the Calusa Cruise Club.\nBob Kremer will be cooking a fabulous pork butt dinner for us with peach cobbler for dessert on the 21st. Please bring a side dish for everyone to enjoy. Bob is in campsite N 13. \nLet’s plan to meet at 5:00.\nWe will be having dinner at the Seagrass Waterfront restaurant on Wednesday\, the 23rd. Reservations are for 5:30pm!
URL:https://calusacruiseclub.com/index.php/event/natures-resort-campground/
LOCATION:Natures Resort\, 10359 W Halls River Rd\, Homosassa\, 34448
ORGANIZER;CN="Chris Defant":MAILTO:johndefant@gmail.com
END:VEVENT
END:VCALENDAR