BEGIN:VCALENDAR
VERSION:2.0
PRODID:-// - ECPv6.15.20//NONSGML v1.0//EN
CALSCALE:GREGORIAN
METHOD:PUBLISH
X-ORIGINAL-URL:https://calusacruiseclub.com
X-WR-CALDESC:Events for 
REFRESH-INTERVAL;VALUE=DURATION:PT1H
X-Robots-Tag:noindex
X-PUBLISHED-TTL:PT1H
BEGIN:VTIMEZONE
TZID:America/New_York
BEGIN:DAYLIGHT
TZOFFSETFROM:-0500
TZOFFSETTO:-0400
TZNAME:EDT
DTSTART:20250309T070000
END:DAYLIGHT
BEGIN:STANDARD
TZOFFSETFROM:-0400
TZOFFSETTO:-0500
TZNAME:EST
DTSTART:20251102T060000
END:STANDARD
BEGIN:DAYLIGHT
TZOFFSETFROM:-0500
TZOFFSETTO:-0400
TZNAME:EDT
DTSTART:20260308T070000
END:DAYLIGHT
BEGIN:STANDARD
TZOFFSETFROM:-0400
TZOFFSETTO:-0500
TZNAME:EST
DTSTART:20261101T060000
END:STANDARD
BEGIN:DAYLIGHT
TZOFFSETFROM:-0500
TZOFFSETTO:-0400
TZNAME:EDT
DTSTART:20270314T070000
END:DAYLIGHT
BEGIN:STANDARD
TZOFFSETFROM:-0400
TZOFFSETTO:-0500
TZNAME:EST
DTSTART:20271107T060000
END:STANDARD
END:VTIMEZONE
BEGIN:VEVENT
DTSTART;TZID=America/New_York:20260412T120000
DTEND;TZID=America/New_York:20260412T140000
DTSTAMP:20260422T023258
CREATED:20260408T144437Z
LAST-MODIFIED:20260411T182451Z
UID:461-1775995200-1776002400@calusacruiseclub.com
SUMMARY:Lighthouse at Anclote Island
DESCRIPTION:You must be logged in to add RSVP or to view attendees.
URL:https://calusacruiseclub.com/index.php/event/lighthouse-at-anclote-island/
LOCATION:Anclote Lighthouse\, 28°10'1.3"N 82°50'41.0"W? / ?28.167028°N
ORGANIZER;CN="Chet Jasak":MAILTO:Chet_Jasak@Hotmail.com
END:VEVENT
BEGIN:VEVENT
DTSTART;TZID=America/New_York:20260410T180000
DTEND;TZID=America/New_York:20260410T230000
DTSTAMP:20260422T023258
CREATED:20260407T211519Z
LAST-MODIFIED:20260410T205119Z
UID:452-1775844000-1775862000@calusacruiseclub.com
SUMMARY:Change of Watch
DESCRIPTION:You must be logged in to add RSVP or to view attendees.
URL:https://calusacruiseclub.com/index.php/event/change-of-watch/
LOCATION:Timber Greens\, 6333 Timber Greens Boulevard\, New Port Richey\,\, 34655
ORGANIZER;CN="Carole Jasak":MAILTO:carole.jasak@gmail.com
END:VEVENT
END:VCALENDAR