BEGIN:VCALENDAR
VERSION:2.0
PRODID:-// - ECPv6.15.20//NONSGML v1.0//EN
CALSCALE:GREGORIAN
METHOD:PUBLISH
X-ORIGINAL-URL:https://calusacruiseclub.com
X-WR-CALDESC:Events for 
REFRESH-INTERVAL;VALUE=DURATION:PT1H
X-Robots-Tag:noindex
X-PUBLISHED-TTL:PT1H
BEGIN:VTIMEZONE
TZID:America/New_York
BEGIN:DAYLIGHT
TZOFFSETFROM:-0500
TZOFFSETTO:-0400
TZNAME:EDT
DTSTART:20250309T070000
END:DAYLIGHT
BEGIN:STANDARD
TZOFFSETFROM:-0400
TZOFFSETTO:-0500
TZNAME:EST
DTSTART:20251102T060000
END:STANDARD
BEGIN:DAYLIGHT
TZOFFSETFROM:-0500
TZOFFSETTO:-0400
TZNAME:EDT
DTSTART:20260308T070000
END:DAYLIGHT
BEGIN:STANDARD
TZOFFSETFROM:-0400
TZOFFSETTO:-0500
TZNAME:EST
DTSTART:20261101T060000
END:STANDARD
BEGIN:DAYLIGHT
TZOFFSETFROM:-0500
TZOFFSETTO:-0400
TZNAME:EDT
DTSTART:20270314T070000
END:DAYLIGHT
BEGIN:STANDARD
TZOFFSETFROM:-0400
TZOFFSETTO:-0500
TZNAME:EST
DTSTART:20271107T060000
END:STANDARD
END:VTIMEZONE
BEGIN:VEVENT
DTSTART;TZID=America/New_York:20260514T190000
DTEND;TZID=America/New_York:20260514T200000
DTSTAMP:20260421T131420
CREATED:20260410T201908Z
LAST-MODIFIED:20260411T161644Z
UID:583-1778785200-1778788800@calusacruiseclub.com
SUMMARY:Calusa Cruise Club Business Mtg.
DESCRIPTION:You must be logged in to add RSVP or to view attendees.
URL:https://calusacruiseclub.com/index.php/event/calusa-cruise-club-business-mtg/
LOCATION:Gulf Harbors Civic Association\, 4610 Floramar Terrace\, New Port Richey\, 34652
ORGANIZER;CN="Chris Defant":MAILTO:johndefant@gmail.com
END:VEVENT
BEGIN:VEVENT
DTSTART;TZID=America/New_York:20260516T110000
DTEND;TZID=America/New_York:20260516T130000
DTSTAMP:20260421T131420
CREATED:20260409T192820Z
LAST-MODIFIED:20260421T113429Z
UID:486-1778929200-1778936400@calusacruiseclub.com
SUMMARY:Durney Key Island
DESCRIPTION:You must be logged in to add RSVP or to view attendees. \nFollow your GPS to 28.2828° N\, 82.7517° W and join the FUN!
URL:https://calusacruiseclub.com/index.php/event/durney-key-island/
LOCATION:Durney Key\, 28.2827778 (North)\, -82.7516667 (West)\, Port Richey
END:VEVENT
BEGIN:VEVENT
DTSTART;TZID=America/New_York:20260521T120000
DTEND;TZID=America/New_York:20260521T180000
DTSTAMP:20260421T131420
CREATED:20260408T160553Z
LAST-MODIFIED:20260410T205121Z
UID:476-1779364800-1779386400@calusacruiseclub.com
SUMMARY:Lunch at Sims Park
DESCRIPTION:You must be logged in to add RSVP or to view attendees.
URL:https://calusacruiseclub.com/index.php/event/lunch-at-sims-park/
LOCATION:Sims Park\, 6433 Circle Blvd\,\,\, New Port Richey\, 34652
END:VEVENT
BEGIN:VEVENT
DTSTART;TZID=America/New_York:20260528T190000
DTEND;TZID=America/New_York:20260528T200000
DTSTAMP:20260421T131420
CREATED:20260410T201908Z
LAST-MODIFIED:20260411T161708Z
UID:586-1779994800-1779998400@calusacruiseclub.com
SUMMARY:Calusa Cruise Club Social Mtg.
DESCRIPTION:You must be logged in to add RSVP or to view attendees.
URL:https://calusacruiseclub.com/index.php/event/calusa-cruise-club-social-mtg-2/
LOCATION:Gulf Harbors Civic Association\, 4610 Floramar Terrace\, New Port Richey\, 34652
ORGANIZER;CN="Chris Defant":MAILTO:johndefant@gmail.com
END:VEVENT
END:VCALENDAR