BEGIN:VCALENDAR
VERSION:2.0
PRODID:-// - ECPv6.15.20//NONSGML v1.0//EN
CALSCALE:GREGORIAN
METHOD:PUBLISH
X-ORIGINAL-URL:https://calusacruiseclub.com
X-WR-CALDESC:Events for 
REFRESH-INTERVAL;VALUE=DURATION:PT1H
X-Robots-Tag:noindex
X-PUBLISHED-TTL:PT1H
BEGIN:VTIMEZONE
TZID:America/New_York
BEGIN:DAYLIGHT
TZOFFSETFROM:-0500
TZOFFSETTO:-0400
TZNAME:EDT
DTSTART:20250309T070000
END:DAYLIGHT
BEGIN:STANDARD
TZOFFSETFROM:-0400
TZOFFSETTO:-0500
TZNAME:EST
DTSTART:20251102T060000
END:STANDARD
BEGIN:DAYLIGHT
TZOFFSETFROM:-0500
TZOFFSETTO:-0400
TZNAME:EDT
DTSTART:20260308T070000
END:DAYLIGHT
BEGIN:STANDARD
TZOFFSETFROM:-0400
TZOFFSETTO:-0500
TZNAME:EST
DTSTART:20261101T060000
END:STANDARD
BEGIN:DAYLIGHT
TZOFFSETFROM:-0500
TZOFFSETTO:-0400
TZNAME:EDT
DTSTART:20270314T070000
END:DAYLIGHT
BEGIN:STANDARD
TZOFFSETFROM:-0400
TZOFFSETTO:-0500
TZNAME:EST
DTSTART:20271107T060000
END:STANDARD
END:VTIMEZONE
BEGIN:VEVENT
DTSTART;TZID=America/New_York:20260604T113000
DTEND;TZID=America/New_York:20260604T133000
DTSTAMP:20260421T151314
CREATED:20260409T193322Z
LAST-MODIFIED:20260410T205121Z
UID:489-1780572600-1780579800@calusacruiseclub.com
SUMMARY:Lunch at Whiskey River
DESCRIPTION:You must be logged in to add RSVP or to view attendees.
URL:https://calusacruiseclub.com/index.php/event/lunch-at-whiskey-river/
LOCATION:Whiskey River Restaurant\, 5245 Limestone Dr\, Port Richey\, 34668
ORGANIZER;CN="Skip Geiger":MAILTO:V.geiger0418@gmail.com
END:VEVENT
BEGIN:VEVENT
DTSTART;TZID=America/New_York:20260611T190000
DTEND;TZID=America/New_York:20260611T200000
DTSTAMP:20260421T151314
CREATED:20260421T114039Z
LAST-MODIFIED:20260421T114039Z
UID:635-1781204400-1781208000@calusacruiseclub.com
SUMMARY:Calusa Cruise Club Business Mtg.
DESCRIPTION:You must be logged in to add RSVP or to view attendees.
URL:https://calusacruiseclub.com/index.php/event/calusa-cruise-club-business-mtg-2/
LOCATION:Gulf Harbors Civic Association\, 4610 Floramar Terrace\, New Port Richey\, 34652
ORGANIZER;CN="Chris Defant":MAILTO:johndefant@gmail.com
END:VEVENT
BEGIN:VEVENT
DTSTART;TZID=America/New_York:20260612T183000
DTEND;TZID=America/New_York:20260612T213000
DTSTAMP:20260421T151314
CREATED:20260409T193703Z
LAST-MODIFIED:20260411T192714Z
UID:491-1781289000-1781299800@calusacruiseclub.com
SUMMARY:Dinner at Frenchy's Rockaway Grill
DESCRIPTION:You must be logged in to add RSVP or to view attendees. \nNot only will we have a great dinner at Frenchy’s\, but we will also have a great cruise to and from the restaurant! The intent is to have a convoy of small boats follow the lead boat down to Clearwater Island\, dock at the Frenchy’s boat ramp\, and then take an evening cruise back!
URL:https://calusacruiseclub.com/index.php/event/lunch-at-frenchys-rockaway-grill/
LOCATION:Frenchy’s Rockaway Grill\, 7 Rockaway St\, Clearwater\, 33767
ORGANIZER;CN="Chris Defant":MAILTO:johndefant@gmail.com
END:VEVENT
BEGIN:VEVENT
DTSTART;TZID=America/New_York:20260621T100000
DTEND;TZID=America/New_York:20260621T150000
DTSTAMP:20260421T151314
CREATED:20260409T195042Z
LAST-MODIFIED:20260410T205122Z
UID:495-1782036000-1782054000@calusacruiseclub.com
SUMMARY:Caladesi Island Boating Trip
DESCRIPTION:You must be logged in to add RSVP or to view attendees.
URL:https://calusacruiseclub.com/index.php/event/caladesi-island-boating-trip/
LOCATION:Caladesi Island State Park Marina
ORGANIZER;CN="Chris Defant":MAILTO:johndefant@gmail.com
END:VEVENT
BEGIN:VEVENT
DTSTART;TZID=America/New_York:20260625T190000
DTEND;TZID=America/New_York:20260625T200000
DTSTAMP:20260421T151314
CREATED:20260421T114149Z
LAST-MODIFIED:20260421T114149Z
UID:637-1782414000-1782417600@calusacruiseclub.com
SUMMARY:Calusa Cruise Club Social Mtg.
DESCRIPTION:You must be logged in to add RSVP or to view attendees.
URL:https://calusacruiseclub.com/index.php/event/calusa-cruise-club-social-mtg-3/
LOCATION:Gulf Harbors Civic Association\, 4610 Floramar Terrace\, New Port Richey\, 34652
ORGANIZER;CN="Chris Defant":MAILTO:johndefant@gmail.com
END:VEVENT
END:VCALENDAR