BEGIN:VCALENDAR
VERSION:2.0
PRODID:-// - ECPv6.15.20//NONSGML v1.0//EN
CALSCALE:GREGORIAN
METHOD:PUBLISH
X-ORIGINAL-URL:https://calusacruiseclub.com
X-WR-CALDESC:Events for 
REFRESH-INTERVAL;VALUE=DURATION:PT1H
X-Robots-Tag:noindex
X-PUBLISHED-TTL:PT1H
BEGIN:VTIMEZONE
TZID:America/New_York
BEGIN:DAYLIGHT
TZOFFSETFROM:-0500
TZOFFSETTO:-0400
TZNAME:EDT
DTSTART:20250309T070000
END:DAYLIGHT
BEGIN:STANDARD
TZOFFSETFROM:-0400
TZOFFSETTO:-0500
TZNAME:EST
DTSTART:20251102T060000
END:STANDARD
BEGIN:DAYLIGHT
TZOFFSETFROM:-0500
TZOFFSETTO:-0400
TZNAME:EDT
DTSTART:20260308T070000
END:DAYLIGHT
BEGIN:STANDARD
TZOFFSETFROM:-0400
TZOFFSETTO:-0500
TZNAME:EST
DTSTART:20261101T060000
END:STANDARD
BEGIN:DAYLIGHT
TZOFFSETFROM:-0500
TZOFFSETTO:-0400
TZNAME:EDT
DTSTART:20270314T070000
END:DAYLIGHT
BEGIN:STANDARD
TZOFFSETFROM:-0400
TZOFFSETTO:-0500
TZNAME:EST
DTSTART:20271107T060000
END:STANDARD
END:VTIMEZONE
BEGIN:VEVENT
DTSTART;TZID=America/New_York:20260801T110000
DTEND;TZID=America/New_York:20260801T130000
DTSTAMP:20260421T185409
CREATED:20260409T200229Z
LAST-MODIFIED:20260421T113448Z
UID:503-1785582000-1785589200@calusacruiseclub.com
SUMMARY:Durney Key Boat in for Lunch
DESCRIPTION:You must be logged in to add RSVP or to view attendees.
URL:https://calusacruiseclub.com/index.php/event/durney-key-boat-in-for-lunch/
LOCATION:Durney Key\, 28.2827778 (North)\, -82.7516667 (West)\, Port Richey
END:VEVENT
BEGIN:VEVENT
DTSTART;TZID=America/New_York:20260811T113000
DTEND;TZID=America/New_York:20260811T133000
DTSTAMP:20260421T185409
CREATED:20260409T200714Z
LAST-MODIFIED:20260421T151509Z
UID:505-1786447800-1786455000@calusacruiseclub.com
SUMMARY:Lunch at Miss Vicky's
DESCRIPTION:You must be logged in to add RSVP or to view attendees.
URL:https://calusacruiseclub.com/index.php/event/lunch-at-miss-vickys/
LOCATION:Miss Vicki’s On The River\, 1029 Baillies Bluff Road\,\, Holiday\,\, 34691
END:VEVENT
BEGIN:VEVENT
DTSTART;TZID=America/New_York:20260813T190000
DTEND;TZID=America/New_York:20260813T200000
DTSTAMP:20260421T185409
CREATED:20260421T115800Z
LAST-MODIFIED:20260421T115959Z
UID:645-1786647600-1786651200@calusacruiseclub.com
SUMMARY:Calusa Cruise Club Business Mtg.
DESCRIPTION:You must be logged in to add RSVP or to view attendees.
URL:https://calusacruiseclub.com/index.php/event/calusa-cruise-club-business-mtg-4/
LOCATION:Gulf Harbors Civic Association\, 4610 Floramar Terrace\, New Port Richey\, 34652
ORGANIZER;CN="Chris Defant":MAILTO:johndefant@gmail.com
END:VEVENT
BEGIN:VEVENT
DTSTART;TZID=America/New_York:20260815T100000
DTEND;TZID=America/New_York:20260815T120000
DTSTAMP:20260421T185409
CREATED:20260414T191416Z
LAST-MODIFIED:20260414T191416Z
UID:622-1786788000-1786795200@calusacruiseclub.com
SUMMARY:Kayak/canoe boating
DESCRIPTION:You must be logged in to add RSVP or to view attendees. \nUse your own kayaks or canoes or you can rent them at the park.\nCost is $4 each person to use the park.  Kayak rentals are extra
URL:https://calusacruiseclub.com/index.php/event/kayak-canoe-boating/
LOCATION:Werner-Boyce Salt Springs State Park\, 8737 U.S. Highway 19 North\, Port Richey\, 34668
END:VEVENT
BEGIN:VEVENT
DTSTART;TZID=America/New_York:20260823T110000
DTEND;TZID=America/New_York:20260823T130000
DTSTAMP:20260421T185409
CREATED:20260414T192938Z
LAST-MODIFIED:20260414T192938Z
UID:624-1787482800-1787490000@calusacruiseclub.com
SUMMARY:Boating to South end of Anclote Island
DESCRIPTION:You must be logged in to add RSVP or to view attendees. \nBring your own food and drink.
URL:https://calusacruiseclub.com/index.php/event/boating-to-south-end-of-anclote-island/
LOCATION:South end of Anchlote Island
END:VEVENT
BEGIN:VEVENT
DTSTART;TZID=America/New_York:20260827T190000
DTEND;TZID=America/New_York:20260827T200000
DTSTAMP:20260421T185409
CREATED:20260421T115701Z
LAST-MODIFIED:20260421T115936Z
UID:643-1787857200-1787860800@calusacruiseclub.com
SUMMARY:Calusa Cruise Club Social Mtg.
DESCRIPTION:You must be logged in to add RSVP or to view attendees.
URL:https://calusacruiseclub.com/index.php/event/calusa-cruise-club-social-mtg-5/
LOCATION:Gulf Harbors Civic Association\, 4610 Floramar Terrace\, New Port Richey\, 34652
ORGANIZER;CN="Chris Defant":MAILTO:johndefant@gmail.com
END:VEVENT
END:VCALENDAR